{
 "currentVersion": 11.5,
 "serviceDescription": "Aerial Photography 2010",
 "name": "WCC/Aerial2010",
 "description": "Aerial Photography 2010",
 "extent": {
  "xmin": 523000.0001220703,
  "ymin": 177000.0001220703,
  "xmax": 532000.0001220703,
  "ymax": 184000.0001220703,
  "spatialReference": {
   "wkid": 27700,
   "latestWkid": 27700
  }
 },
 "initialExtent": {
  "xmin": 523000.0001220703,
  "ymin": 177000.0001220703,
  "xmax": 532000.0001220703,
  "ymax": 184000.0001220703,
  "spatialReference": {
   "wkid": 27700,
   "latestWkid": 27700
  }
 },
 "fullExtent": {
  "xmin": 523000.0001220703,
  "ymin": 177000.0001220703,
  "xmax": 532000.0001220703,
  "ymax": 184000.0001220703,
  "spatialReference": {
   "wkid": 27700,
   "latestWkid": 27700
  }
 },
 "sortableFields": "",
 "bandCount": 3,
 "pixelType": "U8",
 "minValues": [
  0,
  0,
  0
 ],
 "maxValues": [
  255,
  255,
  255
 ],
 "meanValues": [
  94.73211544087837,
  95.05505694594595,
  91.37653871171172
 ],
 "stdvValues": [
  43.82460079100185,
  41.78683422080868,
  41.41876994861923
 ],
 "serviceProperties": "Center<\/MosaicMethod>First<\/MosaicOperator>true<\/SortAscending><\/LockImageID><\/TileOrderField>0<\/TileOrderBase>0.000000<\/AvgImageSpacingX>0.000000<\/AvgImageSpacingY>0.0<\/ViewPointX>0.0<\/ViewPointY>0.0<\/ViewPointDefShiftX>0.0<\/ViewPointDefShiftY>None<\/CompressionMethod>75<\/CompressionQuality>0.010000<\/CompressionTolerance>Bilinear<\/SamplingMethod><\/ImageServiceProperties><\/ImageServer>",
 "allowedFields": "",
 "hasMultidimensions": false,
 "pixelSizeX": 0.25,
 "pixelSizeY": 0.25,
 "meanPixelSize": 0.25,
 "datasetFormat": "SDR",
 "uncompressedSize": 3024000000,
 "blockWidth": 128,
 "blockHeight": 128,
 "compressionType": "LZ77",
 "bandNames": [
  "Band_1",
  "Band_2",
  "Band_3"
 ],
 "allowCopy": false,
 "allowAnalysis": false,
 "itemAccess": false,
 "inspectionCapabilities": "",
 "minPixelSize": 0,
 "maxPixelSize": 0,
 "copyrightText": "© Bluesky International Limited",
 "serviceDataType": "esriImageServiceDataTypeRGB",
 "serviceSourceType": "esriImageServiceSourceTypeDataset",
 "objectIdField": "",
 "fields": [],
 "capabilities": "Image",
 "defaultMosaicMethod": "Center",
 "allowedMosaicMethods": "",
 "sortField": "",
 "sortValue": null,
 "sortAscending": true,
 "mosaicOperator": "First",
 "defaultCompressionQuality": 75,
 "defaultResamplingMethod": "Bilinear",
 "maxImageHeight": 4100,
 "maxImageWidth": 15000,
 "allowRasterFunction": true,
 "rasterFunctionInfos": [
  {
   "name": "None",
   "description": "",
   "help": ""
  }
 ],
 "rasterTypeInfos": [
  {
   "name": "Raster Dataset",
   "description": "Supports all ArcGIS Raster Datasets",
   "help": ""
  }
 ],
 "mensurationCapabilities": "Basic",
 "hasHistograms": true,
 "hasColormap": false,
 "hasRasterAttributeTable": false,
 "minScale": 0,
 "maxScale": 0,
 "exportTilesAllowed": false,
 "supportsStatistics": false,
 "supportsAdvancedQueries": false,
 "editFieldsInfo": null,
 "ownershipBasedAccessControlForRasters": null,
 "allowComputeTiePoints": false,
 "useStandardizedQueries": true,
 "advancedQueryCapabilities": {
  "useStandardizedQueries": true,
  "supportsStatistics": false,
  "supportsOrderBy": false,
  "supportsDistinct": false,
  "supportsPagination": false
 },
 "spatialReference": {
  "wkid": 27700,
  "latestWkid": 27700
 },
 "resampling": false
}
