View In:
ArcGIS JavaScript
ArcGIS Online Map Viewer
ArcGIS Earth
Service Description: Aerial Photography 2004
Name: WCC/Aerial2004
Description: Aerial Photography 2004
Single Fused Map Cache: false
Extent:
XMin: 523499.9375
YMin: 177500.0625
XMax: 531499.9375
YMax: 184000.0625
Spatial Reference: 27700
(27700)
LatestVCSWkid(0)
Initial Extent:
XMin: 523499.9375
YMin: 177500.0625
XMax: 531499.9375
YMax: 184000.0625
Spatial Reference: 27700
(27700)
LatestVCSWkid(0)
Full Extent:
XMin: 523499.9375
YMin: 177500.0625
XMax: 531499.9375
YMax: 184000.0625
Spatial Reference: 27700
(27700)
LatestVCSWkid(0)
Pixel Size X: 0.125
Pixel Size Y: 0.125
Band Count: 3
Pixel Type: U8
RasterFunction Infos: {"rasterFunctionInfos": [{
"name": "None",
"description": "",
"help": ""
}]}
Mensuration Capabilities: Basic
Inspection Capabilities:
Has Histograms: true
Has Colormap: false
Has Multi Dimensions : false
Rendering Rule:
Min Scale: 0
Max Scale: 0
Resampling: false
Copyright Text:
Service Data Type: esriImageServiceDataTypeRGB
Min Values: 0, 0, 0
Max Values: 255, 255, 255
Mean Values: 89.84680669311024, 95.93028271757004, 92.58465730877191
Standard Deviation Values: 49.62203767858667, 48.993842929756305, 47.390302721748974
Object ID Field:
Fields:
None
Default Mosaic Method: Center
Allowed Mosaic Methods:
SortField:
SortValue: null
Mosaic Operator: First
Default Compression Quality: 75
Default Resampling Method: Bilinear
Max Record Count: null
Max Image Height: 4100
Max Image Width: 15000
Max Download Image Count: null
Max Mosaic Image Count: null
Allow Raster Function: true
Allow Copy: false
Allow Analysis: false
Allow Compute TiePoints: false
Supports Statistics: false
Supports Advanced Queries: false
Use StandardizedQueries: true
Raster Type Infos:
Name: Raster Dataset
Description: Supports all ArcGIS Raster Datasets
Help:
Has Raster Attribute Table: false
Edit Fields Info: null
Ownership Based AccessControl For Rasters: null
Child Resources:
Info
Histograms
Statistics
Key Properties
Legend
Raster Function Infos
Supported Operations:
Export Image
Identify
Compute Histograms
Compute Statistics Histograms
Get Samples
Compute Class Statistics
Query Boundary
Compute Pixel Location
Compute Angles
Validate
Project