View In:
ArcGIS JavaScript
ArcGIS Online Map Viewer
ArcGIS Earth
Service Description: Historic 1910
Name: WCC/Historic1910
Description: Historic 1910
Single Fused Map Cache: false
Extent:
XMin: 521999.89415775036
YMin: 177000.10728131837
XMax: 532999.8453577505
YMax: 186000.10584131826
Spatial Reference: 27700
(27700)
LatestVCSWkid(0)
Initial Extent:
XMin: 521999.89415775036
YMin: 177000.10728131837
XMax: 532999.8453577505
YMax: 186000.10584131826
Spatial Reference: 27700
(27700)
LatestVCSWkid(0)
Full Extent:
XMin: 521999.89415775036
YMin: 177000.10728131837
XMax: 532999.8453577505
YMax: 186000.10584131826
Spatial Reference: 27700
(27700)
LatestVCSWkid(0)
Pixel Size X: 0.21168000000000356
Pixel Size Y: 0.21167999999999743
Band Count: 3
Pixel Type: U8
RasterFunction Infos: {"rasterFunctionInfos": [{
"name": "None",
"description": "",
"help": ""
}]}
Mensuration Capabilities: Basic
Inspection Capabilities:
Has Histograms: false
Has Colormap: false
Has Multi Dimensions : false
Rendering Rule:
Min Scale: 0
Max Scale: 0
Resampling: false
Copyright Text: © Crown Copyright and Landmark Information Group Ltd. All Rights Reserved (2026)
Service Data Type: esriImageServiceDataTypeRGB
Min Values: N/A
Max Values: N/A
Mean Values: N/A
Standard Deviation Values: N/A
Object ID Field:
Fields:
None
Default Mosaic Method: Center
Allowed Mosaic Methods:
SortField:
SortValue: null
Mosaic Operator: First
Default Compression Quality: 75
Default Resampling Method: Nearest
Max Record Count: null
Max Image Height: 4100
Max Image Width: 15000
Max Download Image Count: null
Max Mosaic Image Count: null
Allow Raster Function: true
Allow Copy: false
Allow Analysis: false
Allow Compute TiePoints: false
Supports Statistics: false
Supports Advanced Queries: false
Use StandardizedQueries: true
Raster Type Infos:
Name: Raster Dataset
Description: Supports all ArcGIS Raster Datasets
Help:
Has Raster Attribute Table: false
Edit Fields Info: null
Ownership Based AccessControl For Rasters: null
Child Resources:
Info
Statistics
Key Properties
Legend
Raster Function Infos
Supported Operations:
Export Image
Identify
Compute Histograms
Compute Statistics Histograms
Get Samples
Compute Class Statistics
Query Boundary
Compute Pixel Location
Compute Angles
Validate
Project