View In:
ArcGIS JavaScript
ArcGIS Online Map Viewer
ArcGIS Earth
Service Description: Aerial Photography 2010
Name: WCC/Aerial2010
Description: Aerial Photography 2010
Single Fused Map Cache: false
Extent:
XMin: 523000.0001220703
YMin: 177000.0001220703
XMax: 532000.0001220703
YMax: 184000.0001220703
Spatial Reference: 27700
(27700)
LatestVCSWkid(0)
Initial Extent:
XMin: 523000.0001220703
YMin: 177000.0001220703
XMax: 532000.0001220703
YMax: 184000.0001220703
Spatial Reference: 27700
(27700)
LatestVCSWkid(0)
Full Extent:
XMin: 523000.0001220703
YMin: 177000.0001220703
XMax: 532000.0001220703
YMax: 184000.0001220703
Spatial Reference: 27700
(27700)
LatestVCSWkid(0)
Pixel Size X: 0.25
Pixel Size Y: 0.25
Band Count: 3
Pixel Type: U8
RasterFunction Infos: {"rasterFunctionInfos": [{
"name": "None",
"description": "",
"help": ""
}]}
Mensuration Capabilities: Basic
Inspection Capabilities:
Has Histograms: true
Has Colormap: false
Has Multi Dimensions : false
Rendering Rule:
Min Scale: 0
Max Scale: 0
Resampling: false
Copyright Text: © Bluesky International Limited
Service Data Type: esriImageServiceDataTypeRGB
Min Values: 0, 0, 0
Max Values: 255, 255, 255
Mean Values: 94.73211544087837, 95.05505694594595, 91.37653871171172
Standard Deviation Values: 43.82460079100185, 41.78683422080868, 41.41876994861923
Object ID Field:
Fields:
None
Default Mosaic Method: Center
Allowed Mosaic Methods:
SortField:
SortValue: null
Mosaic Operator: First
Default Compression Quality: 75
Default Resampling Method: Bilinear
Max Record Count: null
Max Image Height: 4100
Max Image Width: 15000
Max Download Image Count: null
Max Mosaic Image Count: null
Allow Raster Function: true
Allow Copy: false
Allow Analysis: false
Allow Compute TiePoints: false
Supports Statistics: false
Supports Advanced Queries: false
Use StandardizedQueries: true
Raster Type Infos:
Name: Raster Dataset
Description: Supports all ArcGIS Raster Datasets
Help:
Has Raster Attribute Table: false
Edit Fields Info: null
Ownership Based AccessControl For Rasters: null
Child Resources:
Info
Histograms
Statistics
Key Properties
Legend
Raster Function Infos
Supported Operations:
Export Image
Identify
Compute Histograms
Compute Statistics Histograms
Get Samples
Compute Class Statistics
Query Boundary
Compute Pixel Location
Compute Angles
Validate
Project